BEGIN:VCALENDAR
VERSION:2.0
PRODID:-//CiviCRM//NONSGML CiviEvent iCal//EN
METHOD:PUBLISH

BEGIN:VEVENT
UID:CiviCRM_EventID_2595_1791bbb359e73b569b37517c6b96ff7c@colorado.arcs-dev.civisite.com
SUMMARY:ARCS Colorado Gala - April 2026
CATEGORIES:Meeting
CALSCALE:GREGORIAN
TZID:UTC
DTSTAMP;TZID=UTC:20260423T170000
DTSTART;TZID=UTC:20260423T170000
DTEND;TZID=UTC:20260423T210000
LOCATION:DMNS\n United States\n 
URL:https://colorado.arcs-dev.civisite.com/civicrm/event/info?reset=1&id=2595
END:VEVENT
END:VCALENDAR
